BEGIN:VCALENDAR
VERSION:2.0
PRODID:-//Bristol Hannover Council - ECPv6.15.20//NONSGML v1.0//EN
CALSCALE:GREGORIAN
METHOD:PUBLISH
X-ORIGINAL-URL:https://bristolhannovercouncil.org.uk
X-WR-CALDESC:Events for Bristol Hannover Council
REFRESH-INTERVAL;VALUE=DURATION:PT1H
X-Robots-Tag:noindex
X-PUBLISHED-TTL:PT1H
BEGIN:VTIMEZONE
TZID:UTC
BEGIN:STANDARD
TZOFFSETFROM:+0000
TZOFFSETTO:+0000
TZNAME:UTC
DTSTART:20240101T000000
END:STANDARD
END:VTIMEZONE
BEGIN:VEVENT
DTSTART;TZID=UTC:20250128T080000
DTEND;TZID=UTC:20250128T210000
DTSTAMP:20260425T120836
CREATED:20250115T220948Z
LAST-MODIFIED:20250123T115025Z
UID:3463-1738051200-1738098000@bristolhannovercouncil.org.uk
SUMMARY:Michael Bloom: The Duty Was Joy. The Life of My Great Uncle Dr. Horst Berkowitz
DESCRIPTION:Please click on this link to join\nhttps://us06web.zoom.us/j/89886032172?pwd=dmC5avxf6eA5WIIs2uaQvM9k6R81AG.1 \n#################
URL:https://bristolhannovercouncil.org.uk/event/michael-bloom-my-great-uncles-historic-coin-collection-in-hannover/
END:VEVENT
BEGIN:VEVENT
DTSTART;TZID=UTC:20250218T080000
DTEND;TZID=UTC:20250227T210000
DTSTAMP:20260425T120836
CREATED:20250119T181057Z
LAST-MODIFIED:20250119T182235Z
UID:3466-1739865600-1740690000@bristolhannovercouncil.org.uk
SUMMARY:February is History Month at Bristol-Hannover!
DESCRIPTION:** For those of you who do not like to travel too far during the winter months when the days are short\, the Bristol-Hannover Council has just the thing. During February\, we are curating three on-line talks from leading academics on topics which I know will appeal to our members.  \nThe talks are hosted by our friends at the German Historical Institute in London and the Leo Baeck Institute. You can attend as many as you like. They are all free of charge\, but in some cases require you to register in advance on-line. Don’t worry\, the process is very simple?. \nIf you have never been in a Zoom conference before\, it’s pretty straightforward-the main thing is to mute your device when the lecturer is talking. There is a good primer here: https://www.ageuk.org.uk/bp-assets/globalassets/trafford/how-to-use-zoom-for-the-first-time.pdf. \nLooking forward to seeing you at the sessions and hearing your reflections afterwards. \nThe Programme \nFEBRUARY 18 – Winner and Losers\, Britain and Germany after WW2 — GHIL online lecture  5.30pm\nhttps://www.ghil.ac.uk/events/lectures#c6501 \nHow do historical narratives and memories shape our understanding of national identity and collective memory? \nLucy Noakes (University of Essex) and Frank Trentmann (Birkbeck) reflect on how the Second World War has shaped Germany and Britain after 1945. The conversation will offer insights into the ways in which the two nations navigated the aftermath of the war and redefined their identities and roles in the contemporary world. \nAbout the speakers: \nLucy Noakes\, Professor of History at the University of Essex\, specialises in the social and cultural history of early to mid-twentieth-century Britain\, with a particular focus on people’s experiences and memories of the world wars. Her recent publication\, Dying for the Nation\, focuses on the history of death\, grief and bereavement in Second World War Britain. This research places the experience and memory of death at the forefront of understanding the British war experience\, exploring how death was managed and remembered during this period. From November 2024 she will be President of the Royal Historical Society. \nFrank Trentmann\, Professor of History at Birkbeck\, University of London\, is a historian of modern Britain\, Germany and the world. His research explores the interplay between material\, political and moral change. His latest book\, Out of the Darkness: The Germans 1942–2022\, follows the German people’s journey from the horrors of the Nazi era to their moral and social reinvention\, and its limits. Trentmann’s work captures the dramatic changes during and after the Cold War\, the division and reunification of Germany\, and the nation’s evolving and ambivalent role on the world stage. \nFEBRUARY 20 – ‘Before the Holocaust’ : Leo Baeck Institute online book talk  7.00pm\nhttps://www.lbilondon.ac.uk/ \nHistorians have traditionally argued that antisemitic violence in Nazi Germany rose gradually\, from low levels during the first years of Hitler’s rule to a high point in the Reich-wide pogrom of November 1938. ?Before the Holocaust\, based on research in more than ?2?0 German archives\, demonstrates that this long-held assumption is wrong. During the months-long Nazi takeover of power\, beginning a mere five weeks after Hitler became Chancellor\, waves of antisemitic violence engulfed large parts of Germany. ?Before the Holocaust? examines the multitude of these hitherto unrecognized antisemitic attacks in the late winter and spring of 1933\, as well as the reaction of German elites and institutions to this violence. \n?Hermann Beck is Professor of History at the University of Miami. He received his Ph.D. from the University of California\, Los Angeles after studying History and Literature at German universities (Mannheim\, Freiburg\, and Berlin)\, the London School of Economics\, and the Sorbonne. He has been a Fulbright Scholar and a member of the Institute for Advanced Study at Princeton. His publications include books on nineteenth-century Germany\, The Origins of the Authoritarian Welfare State in Prussia and the late Weimar and Nazi periods. \nFEBRUARY 27 – ‘Cold War Games’ GHIL on line lecture  5.30 pm https://www.ghil.ac.uk/events/lectures \nMaren Röger (Leibniz Institute for the History and Culture of Eastern Europe)\n(Cold) War Games: Scenarios on Both Sides of the Iron Curtain \nIn co-operation with the Modern History Research Seminar\, University of Oxford \n“During the Cold War\, millions of people on both sides of the Iron Curtain played board and digital games in living rooms\, barracks\, and schools. They played classics such as Memory in the FRG and Merk-Fix in the GDR\, but also games with names like Fulda Gap and Class Struggle. In this lecture\, I will present games–for a long time neglected by Cold War Studies–as a relevant part of popular culture in the 1970s and 1980s. First\, I will show how they played a significant role in conveying to a popular audience the fundamental characteristics of the East-West conflict. Second\, I will focus on GDR board games and analyse their territorial and ideological worlds and boundaries.” \nMaren Röger has been Director of the Leibniz Institute for the History and Culture of Eastern Europe and Senior Professor of Central and Eastern European History at the University of Leipzig since ?2021. Her numerous publications include monographs on the gender history of German-occupied Poland\, the visual history of Habsburg Bucovina\, and entangled memories of post-war expulsions\, and articles on board and computer games in the Cold War. \nIAN TURNER/ Chair\, BHC \n###################
URL:https://bristolhannovercouncil.org.uk/event/february-is-history-month-at-bristol-hannover/
END:VEVENT
BEGIN:VEVENT
DTSTART;TZID=UTC:20250303T190000
DTEND;TZID=UTC:20250303T210000
DTSTAMP:20260425T120836
CREATED:20250203T225142Z
LAST-MODIFIED:20250203T225142Z
UID:3485-1741028400-1741035600@bristolhannovercouncil.org.uk
SUMMARY:Rosenmontag
DESCRIPTION:Annual celebration – at the Black Swan\, Westbury-on-Trym \n###
URL:https://bristolhannovercouncil.org.uk/event/rosenmontag/
END:VEVENT
BEGIN:VEVENT
DTSTART;TZID=UTC:20250520T190000
DTEND;TZID=UTC:20250520T220000
DTSTAMP:20260425T120836
CREATED:20250520T163252Z
LAST-MODIFIED:20250520T163605Z
UID:3590-1747767600-1747778400@bristolhannovercouncil.org.uk
SUMMARY:MAY 20
DESCRIPTION:First in a new series of German films (at Stoke Lodge): Phoenix – directed by Christian Petzold. \nPetzold writes his own scripts\, but the films all have a link to either periods or real events in history\, so this gives them a strong feeling of authenticity. He is also a political activist and social campaigner. Many of his films have featured the actor Nina Hoss has won many awards for her performances but she also campaigns for social justice. The most successful film from the partnership between Petzold and Hoss is the multi award winning ‘Barbara\,’ which we showed last year in our series on East Germany. \nIn this film Hoss plays Auschwitz survivor Nelly who is heavily bandaged after facial surgery. On returning home she finds that her husband has remarried. He does not recognise her but sees a faint resemblance so asks her to take on the identity of his former wife to access her inherited fortune. She agrees so becomes her own imposter. \n##
URL:https://bristolhannovercouncil.org.uk/event/may-20/
END:VEVENT
BEGIN:VEVENT
DTSTART;TZID=UTC:20250603T190000
DTEND;TZID=UTC:20250603T220000
DTSTAMP:20260425T120836
CREATED:20250520T164521Z
LAST-MODIFIED:20250520T164521Z
UID:3599-1748977200-1748988000@bristolhannovercouncil.org.uk
SUMMARY:JUNE 03
DESCRIPTION:The latest of our popular darts evenings at the Post Office Tavern\, Westbury-on-Trym\, at 7pm \n## \n 
URL:https://bristolhannovercouncil.org.uk/event/june-03/
END:VEVENT
BEGIN:VEVENT
DTSTART;TZID=UTC:20250610T190000
DTEND;TZID=UTC:20250610T220000
DTSTAMP:20260425T120836
CREATED:20250520T163953Z
LAST-MODIFIED:20250520T163953Z
UID:3595-1749582000-1749592800@bristolhannovercouncil.org.uk
SUMMARY:JUNE 10
DESCRIPTION:Second in a new series of German films (at Stoke Lodge): Transit – directed by Christian Petzold. \nPetzold writes his own scripts\, but the films all have a link to either periods or real events in history\, so this gives them a strong feeling of authenticity. He is also a political activist and social campaigner. In this second film of the series Georg\, fleeing Paris after the German invasion\, escapes to Marseille and assumes the identity of a dead author. He settles to life as a drifter but falls in love with Marie who is searching for her missing husband. \n##
URL:https://bristolhannovercouncil.org.uk/event/june-10/
END:VEVENT
BEGIN:VEVENT
DTSTART;TZID=UTC:20250701T190000
DTEND;TZID=UTC:20250701T220000
DTSTAMP:20260425T120836
CREATED:20250520T164251Z
LAST-MODIFIED:20250520T164251Z
UID:3597-1751396400-1751407200@bristolhannovercouncil.org.uk
SUMMARY:JULY 01
DESCRIPTION:Third in a series of German films (at Stoke Lodge): Yella – directed by Christian Petzold. \nPetzold writes his own scripts\, but the films all have a link to either periods or real events in history\, so this gives them a strong feeling of authenticity. He is also a political activist and social campaigner. In this third film of the series Yella flees her unsuccessful life in East Germany to settle in Hannover where she becomes entangled in the ruthless world of big business. She does well but her past eventually catches up with her.’ \n##
URL:https://bristolhannovercouncil.org.uk/event/july-01/
END:VEVENT
BEGIN:VEVENT
DTSTART;TZID=UTC:20250806T080000
DTEND;TZID=UTC:20250811T210000
DTSTAMP:20260425T120836
CREATED:20241129T125232Z
LAST-MODIFIED:20241216T123305Z
UID:3404-1754467200-1754946000@bristolhannovercouncil.org.uk
SUMMARY:2025 Exchange: August 6-11 - including the Balloon Fiesta
DESCRIPTION:
URL:https://bristolhannovercouncil.org.uk/event/2025-exchange-august-8-11-for-the-balloon-fiesta/
END:VEVENT
BEGIN:VEVENT
DTSTART;TZID=UTC:20250907T193000
DTEND;TZID=UTC:20250907T213000
DTSTAMP:20260425T120836
CREATED:20250819T093710Z
LAST-MODIFIED:20250819T093710Z
UID:3724-1757273400-1757280600@bristolhannovercouncil.org.uk
SUMMARY:SEPTEMBER 7
DESCRIPTION:Film: ‘ Riefenstahl’\, Documentary about the controversial German filmmaker\, Curzon Cinema Clevedon\, 7.30pm \n##
URL:https://bristolhannovercouncil.org.uk/event/september-7/
END:VEVENT
BEGIN:VEVENT
DTSTART;TZID=UTC:20250910T193000
DTEND;TZID=UTC:20250910T213000
DTSTAMP:20260425T120836
CREATED:20250819T093833Z
LAST-MODIFIED:20250819T093833Z
UID:3726-1757532600-1757539800@bristolhannovercouncil.org.uk
SUMMARY:SEPTEMBER 10
DESCRIPTION:BAGS talk ‘Summer on the Habsburg Trail!’  Speaker – Dr Mark Allinson. Mark will report back on the ways in which the Habsburgs’ subjects built new identities after the Austro-Hungarian empire collapsed\, and how some of these places look now\, more than a century on. Venue: St Peter’s Church Henleaze\, Meeting Room. 7.45pm \n##
URL:https://bristolhannovercouncil.org.uk/event/september-10/
END:VEVENT
BEGIN:VEVENT
DTSTART;TZID=UTC:20250911T123000
DTEND;TZID=UTC:20250911T163000
DTSTAMP:20260425T120836
CREATED:20250819T093945Z
LAST-MODIFIED:20250819T093945Z
UID:3728-1757593800-1757608200@bristolhannovercouncil.org.uk
SUMMARY:SEPTEMBER 11
DESCRIPTION:BHC visit to the Anselm Kiefer/VanGogh exhibition in the Royal Academy London\, 12.40. More details to follow. \n##
URL:https://bristolhannovercouncil.org.uk/event/september-11/
END:VEVENT
BEGIN:VEVENT
DTSTART;TZID=UTC:20251001T120000
DTEND;TZID=UTC:20251001T210000
DTSTAMP:20260425T120836
CREATED:20250819T094300Z
LAST-MODIFIED:20250819T094351Z
UID:3730-1759320000-1759352400@bristolhannovercouncil.org.uk
SUMMARY:OCTOBER 1
DESCRIPTION:BHC will be hosting a meal for the multiplier group visiting Bristol from Hannover.Venue: Trinity Centre Bristol. Volunteers welcome. More details to follow. \n##
URL:https://bristolhannovercouncil.org.uk/event/october-1/
END:VEVENT
BEGIN:VEVENT
DTSTART;TZID=UTC:20251002T123000
DTEND;TZID=UTC:20251002T210000
DTSTAMP:20260425T120836
CREATED:20250819T094454Z
LAST-MODIFIED:20250819T094454Z
UID:3734-1759408200-1759438800@bristolhannovercouncil.org.uk
SUMMARY:OCTOBER 2
DESCRIPTION:October 2 – Joint event with BAGS and Bristol University German Department\, on the eve of German Unification Day. Evening. Venue: Bristol University (details to follow) \n##
URL:https://bristolhannovercouncil.org.uk/event/october-2/
END:VEVENT
BEGIN:VEVENT
DTSTART;TZID=UTC:20251011T123000
DTEND;TZID=UTC:20251011T170000
DTSTAMP:20260425T120836
CREATED:20250819T094608Z
LAST-MODIFIED:20250819T094608Z
UID:3736-1760185800-1760202000@bristolhannovercouncil.org.uk
SUMMARY:OCTOBER 11
DESCRIPTION:Excursion to Hauser and Wirth\, Bruton\, Somerset to view the Nana sculptures. Arrive around 12.30 (details to follow) \n###
URL:https://bristolhannovercouncil.org.uk/event/october-11/
END:VEVENT
BEGIN:VEVENT
DTSTART;TZID=UTC:20251015T190000
DTEND;TZID=UTC:20251015T213000
DTSTAMP:20260425T120836
CREATED:20250819T094715Z
LAST-MODIFIED:20250819T094715Z
UID:3738-1760554800-1760563800@bristolhannovercouncil.org.uk
SUMMARY:OCTOBER 15
DESCRIPTION:Language change: ‘Is German under threat?’ Dr Anna Havinga\, Senior Lecturer in Sociolinguistics\, University of Bristol: German could become a language increasingly used only for social purposes\, rather than for culture\, economy and science. But is German really under threat? Anna will look at the use of anglicisms and the introduction of gender-inclusive language in German. She will explore their impact on language and society and critically evaluate reactions to both features.  Venue: St Peter’s Church Henleaze\, Meeting Room. 7.15pm (time tbc) \n##
URL:https://bristolhannovercouncil.org.uk/event/october-15/
END:VEVENT
BEGIN:VEVENT
DTSTART;TZID=UTC:20251016T183000
DTEND;TZID=UTC:20251016T210000
DTSTAMP:20260425T120836
CREATED:20250819T094812Z
LAST-MODIFIED:20250819T094812Z
UID:3740-1760639400-1760648400@bristolhannovercouncil.org.uk
SUMMARY:OCTOBER 16 - agm
DESCRIPTION:BHC AGM\, City Hall 6.30 pm. Come along and hear what we have been busy doing this year \n##
URL:https://bristolhannovercouncil.org.uk/event/october-16-agm/
END:VEVENT
BEGIN:VEVENT
DTSTART;TZID=UTC:20251112T193000
DTEND;TZID=UTC:20251112T213000
DTSTAMP:20260425T120836
CREATED:20250819T094922Z
LAST-MODIFIED:20250819T094922Z
UID:3742-1762975800-1762983000@bristolhannovercouncil.org.uk
SUMMARY:NOVEMBER 12
DESCRIPTION:The future of remembrance in united Germany: Illustrated Talk with refreshments. Speaker – Dr Debbie Pinfold; University of Bristol. When Germany reunited in 1990  East and West Germany had very distinct memory cultures of the National Socialism and World War II. The years following unification were  marked by efforts to create a unified culture of remembrance which would also support a sense of cohesive national identity. Yet as these events pass from lived memory and the past becomes contested again\, Germany’s culture of remembrance is at a transitional moment. Venue: St Peter’s Church Henleaze\, Meeting Room. 7.45pm \n##
URL:https://bristolhannovercouncil.org.uk/event/november-12/
END:VEVENT
BEGIN:VEVENT
DTSTART;TZID=UTC:20260307T080000
DTEND;TZID=UTC:20260307T170000
DTSTAMP:20260425T120836
CREATED:20260224T155256Z
LAST-MODIFIED:20260224T155256Z
UID:3890-1772870400-1772902800@bristolhannovercouncil.org.uk
SUMMARY:March 7: Werner Bischoff exhibition (Fox Talbot Museum\, Lacock Abbey\, NT)
DESCRIPTION:
URL:https://bristolhannovercouncil.org.uk/event/march-7-werner-bischoff-exhibition-fox-talbot-museum-lacock-abbey-nt/
END:VEVENT
BEGIN:VEVENT
DTSTART;TZID=UTC:20260418T080000
DTEND;TZID=UTC:20260418T170000
DTSTAMP:20260425T120836
CREATED:20260223T224914Z
LAST-MODIFIED:20260223T224914Z
UID:3885-1776499200-1776531600@bristolhannovercouncil.org.uk
SUMMARY:April 18: Ken Stradling Collection visit
DESCRIPTION:
URL:https://bristolhannovercouncil.org.uk/event/april-18-ken-stradling-collection-visit/
END:VEVENT
BEGIN:VEVENT
DTSTART;TZID=UTC:20260513T080000
DTEND;TZID=UTC:20260518T170000
DTSTAMP:20260425T120836
CREATED:20260223T224609Z
LAST-MODIFIED:20260223T224609Z
UID:3883-1778659200-1779123600@bristolhannovercouncil.org.uk
SUMMARY:MAY 13-18 BHC EXCHANGE VISIT TO HANNOVER
DESCRIPTION:
URL:https://bristolhannovercouncil.org.uk/event/may-13-18-bhc-exchange-visit-to-hannover/
END:VEVENT
BEGIN:VEVENT
DTSTART;TZID=UTC:20260609T080000
DTEND;TZID=UTC:20260609T170000
DTSTAMP:20260425T120836
CREATED:20260223T225052Z
LAST-MODIFIED:20260223T225322Z
UID:3887-1780992000-1781024400@bristolhannovercouncil.org.uk
SUMMARY:JUNE 9: DARTS EVENING
DESCRIPTION:
URL:https://bristolhannovercouncil.org.uk/event/june-9-darts-evening-provisional/
END:VEVENT
END:VCALENDAR